BEGIN:VCALENDAR
VERSION:2.0
PRODID:-//Purple Dawn --  Exploring the Possibilities - ECPv6.15.20//NONSGML v1.0//EN
CALSCALE:GREGORIAN
METHOD:PUBLISH
X-ORIGINAL-URL:https://iampurpledawn.com
X-WR-CALDESC:Events for Purple Dawn --  Exploring the Possibilities
REFRESH-INTERVAL;VALUE=DURATION:PT1H
X-Robots-Tag:noindex
X-PUBLISHED-TTL:PT1H
BEGIN:VTIMEZONE
TZID:UTC
BEGIN:STANDARD
TZOFFSETFROM:+0000
TZOFFSETTO:+0000
TZNAME:UTC
DTSTART:20180101T000000
END:STANDARD
END:VTIMEZONE
BEGIN:VTIMEZONE
TZID:America/New_York
BEGIN:DAYLIGHT
TZOFFSETFROM:-0500
TZOFFSETTO:-0400
TZNAME:EDT
DTSTART:20180311T070000
END:DAYLIGHT
BEGIN:STANDARD
TZOFFSETFROM:-0400
TZOFFSETTO:-0500
TZNAME:EST
DTSTART:20181104T060000
END:STANDARD
BEGIN:DAYLIGHT
TZOFFSETFROM:-0500
TZOFFSETTO:-0400
TZNAME:EDT
DTSTART:20190310T070000
END:DAYLIGHT
BEGIN:STANDARD
TZOFFSETFROM:-0400
TZOFFSETTO:-0500
TZNAME:EST
DTSTART:20191103T060000
END:STANDARD
BEGIN:DAYLIGHT
TZOFFSETFROM:-0500
TZOFFSETTO:-0400
TZNAME:EDT
DTSTART:20200308T070000
END:DAYLIGHT
BEGIN:STANDARD
TZOFFSETFROM:-0400
TZOFFSETTO:-0500
TZNAME:EST
DTSTART:20201101T060000
END:STANDARD
END:VTIMEZONE
BEGIN:VEVENT
DTSTART;TZID=UTC:20190607T100000
DTEND;TZID=UTC:20190608T190000
DTSTAMP:20260425T183826
CREATED:20190524T174912Z
LAST-MODIFIED:20190524T174912Z
UID:3570-1559901600-1560020400@iampurpledawn.com
SUMMARY:Dawn Speaking at WPN Illumination Live
DESCRIPTION:Join me as I\nBlastoff to Possibilities\nat the WPN Illumination Live:  Where Passion Meets Prosperity\n\n\n\n\n\n\n\n\n\n\n\n\n\n\n\n\n\n\nAn Experiential Conference That Transforms Your Business & Your Life\n\n\n\n\n\n\nRegister at womensprosperitynetwork.com/live/
URL:https://iampurpledawn.com/event/dawn-speaking-at-wpn-illumination-live/
LOCATION:Fort Lauderdale\, FL\, United States
CATEGORIES:Presentations
ATTACH;FMTTYPE=image/jpeg:https://iampurpledawn.com/wp-content/uploads/2019/05/Dawn-iLive.jpg
ORGANIZER;CN="Dawn C. Meyer":MAILTO:dawn@iampurpledawn.com
END:VEVENT
BEGIN:VEVENT
DTSTART;TZID=UTC:20190529T090000
DTEND;TZID=UTC:20190529T100000
DTSTAMP:20260425T183826
CREATED:20190524T173858Z
LAST-MODIFIED:20190524T173858Z
UID:3566-1559120400-1559124000@iampurpledawn.com
SUMMARY:WOW Wednesday with Dawn -  Topic: The 3 Biggest Lies We Tell Ourselves
DESCRIPTION:The 3 Biggest Lies We Tell Ourselves\n\n\n\n\nJoin us for this week’s Wow class with Dawn Meyer\, former Rocket Scientist (yes really!)\, now Energy Healer\, who will be discussing The 3 Biggest Lies We Tell Ourselves. Dawn will share how you can set yourself FREE from these lies to live your TRUTH\, fulfill your PURPOSE and enjoy the ride to the STARS!\n\n\nRegister at   womensprosperitynetwork.com/wow/
URL:https://iampurpledawn.com/event/wow-wednesday-with-dawn-topic-the-3-biggest-lies-we-tell-ourselves/
LOCATION:Online\, United States
CATEGORIES:Presentations
ATTACH;FMTTYPE=image/jpeg:https://iampurpledawn.com/wp-content/uploads/2019/05/wow052919-full.jpg
ORGANIZER;CN="Dawn C. Meyer":MAILTO:dawn@iampurpledawn.com
END:VEVENT
BEGIN:VEVENT
DTSTART;TZID=UTC:20190524T110000
DTEND;TZID=UTC:20190524T123000
DTSTAMP:20260425T183826
CREATED:20190524T171147Z
LAST-MODIFIED:20190524T171147Z
UID:3563-1558695600-1558701000@iampurpledawn.com
SUMMARY:VIRTUAL SUMMIT On Spiritual & Energy Healing
DESCRIPTION:I will be speaking on the VIRTUAL SUMMIT On Spiritual & Energy Healing\nHere is the registration link for a free pass \nhttp://bit.ly/VSSpiritual\n 
URL:https://iampurpledawn.com/event/virtual-summit-on-spiritual-energy-healing/
LOCATION:ZOOM
CATEGORIES:Presentations
ATTACH;FMTTYPE=image/png:https://iampurpledawn.com/wp-content/uploads/2019/05/Spiritual-energy-healing-summit-dawn-sm.png
ORGANIZER;CN="Dawn C. Meyer":MAILTO:dawn@iampurpledawn.com
END:VEVENT
BEGIN:VEVENT
DTSTART;TZID=UTC:20190427T090000
DTEND;TZID=UTC:20190427T180000
DTSTAMP:20260425T183826
CREATED:20190202T200203Z
LAST-MODIFIED:20190326T012815Z
UID:3128-1556355600-1556388000@iampurpledawn.com
SUMMARY:Energetic Facelift Class
DESCRIPTION:Access Consciousness® Energetic Facelift is an amazing process which can rejuvenate the face and reverse the appearance of aging on the face. Plus it can create similar effects throughout the body.\n\n\n \n\n\nThe process smooths\, tightens and rejuvenates your face and your body. It differs from other alternatives out there in that it’s gentler\, kinder and easier on you and your body. What if you could have a natural facelift instead of going under the knife or having to resort to chemicals like Botox? No surgery\, no injections\, no drugs! How does it get any better?\n\n\n \n\n\nLMTs earn 8 CEUs\n\n\nNCBTMB approved\n\n\n \n\n\nAdvanced registration required. \n\n\nhttp://iampurpledawn.com/energetic-facelift/\n\n\n \n\n\nYou MUST register by Wednesday\, April 23 to ensure space and a book!!\n\n\n \n\n\nClass facilitated by Dawn C. Meyer\n\n\n \n\n\nClass investment: $300\n\n\n \n\n\nMA67581
URL:https://iampurpledawn.com/event/energetic-facelift-class/
LOCATION:Unity of Merritt Island\, 4725 N Courtenay Parkway\, Merritt Island\, FL\, 32953\, United States
CATEGORIES:Class - CEU,Class - Other
ATTACH;FMTTYPE=image/jpeg:https://iampurpledawn.com/wp-content/uploads/2018/03/FaceliftBannerDawn2-e1528743991614.jpg
ORGANIZER;CN="Dawn C. Meyer":MAILTO:dawn@iampurpledawn.com
END:VEVENT
BEGIN:VEVENT
DTSTART;TZID=UTC:20190426T080000
DTEND;TZID=UTC:20190426T090000
DTSTAMP:20260425T183826
CREATED:20190422T191124Z
LAST-MODIFIED:20190422T191124Z
UID:3415-1556265600-1556269200@iampurpledawn.com
SUMMARY:Special Water Blessing for Earth Week
DESCRIPTION:Special Water Blessing for Earth Week \nAt the beach end of the boardwalk\, Harbor Drive\, Cape Canaveral
URL:https://iampurpledawn.com/event/special-water-blessing-for-earth-week/
LOCATION:Peacock Beach\, Cape Canaveral\, 404 Harbor Drive\, Cape Canaveral\, FL\, 32920\, United States
CATEGORIES:Other
ORGANIZER;CN="Dawn C. Meyer":MAILTO:dawn@iampurpledawn.com
END:VEVENT
BEGIN:VEVENT
DTSTART;VALUE=DATE:20190415
DTEND;VALUE=DATE:20190418
DTSTAMP:20260425T183826
CREATED:20190325T011749Z
LAST-MODIFIED:20190325T013233Z
UID:3287-1555286400-1555545599@iampurpledawn.com
SUMMARY:Dawn - sponsor and panelist at Red Elephant's Stand Out and Thrive event
DESCRIPTION:Dawn will be a sponsor and panelist at Red Elephant’s Stand Out and Thrive event \nStand Out And Thrive 2019 is going to be an amazing event.\nWant a great deal on a ticket? Go here!
URL:https://iampurpledawn.com/event/dawn-sponsor-and-panelist-at-red-elephants-stand-out-and-thrive-event/
LOCATION:FL
END:VEVENT
BEGIN:VEVENT
DTSTART;TZID=UTC:20190413T090000
DTEND;TZID=UTC:20190413T170000
DTSTAMP:20260425T183826
CREATED:20190131T104058Z
LAST-MODIFIED:20190131T104058Z
UID:3093-1555146000-1555174800@iampurpledawn.com
SUMMARY:Holy Fire Reiki 2 Class
DESCRIPTION:Continue your Reiki training with Holy Fire Reiki 2.\n \nYou’ll experience and learn to use a simple safe and gentle way of relaxation and well being for you and loved ones. \nLearn to use Reiki at a distance to treat people\, animals\, and situations. \nIncludes book\, certificates\, attunements and practice. \nRegistration deadline April 1. \n8 NCBTMB/FL CEUs available for LMTs
URL:https://iampurpledawn.com/event/holy-fire-reiki-2-class/
LOCATION:Unity of Merritt Island\, 4725 N Courtenay Parkway\, Merritt Island\, FL\, 32953\, United States
CATEGORIES:Class - CEU,Class - Other
ATTACH;FMTTYPE=image/jpeg:https://iampurpledawn.com/wp-content/uploads/2017/11/ReikiHandsPurpleSM.jpg
ORGANIZER;CN="Dawn C. Meyer":MAILTO:dawn@iampurpledawn.com
END:VEVENT
BEGIN:VEVENT
DTSTART;VALUE=DATE:20190405
DTEND;VALUE=DATE:20190408
DTSTAMP:20260425T183826
CREATED:20190325T011052Z
LAST-MODIFIED:20190325T012444Z
UID:3285-1554422400-1554681599@iampurpledawn.com
SUMMARY:Dawn at Empowered Speaker
DESCRIPTION:Dawn will be at the AmondaRose Igoe’s Empowered Speaker event. \nShe won the chance to speak on stage! \nhttps://amondarose.com/empowered-speaker-event
URL:https://iampurpledawn.com/event/dawn-at-empowered-speaker/
LOCATION:FL
END:VEVENT
BEGIN:VEVENT
DTSTART;TZID=UTC:20190402T090000
DTEND;TZID=UTC:20190402T170000
DTSTAMP:20260425T183826
CREATED:20190325T012123Z
LAST-MODIFIED:20190325T012123Z
UID:3289-1554195600-1554224400@iampurpledawn.com
SUMMARY:Holy Fire Reiki 1 Class
DESCRIPTION:Take your first step toward Reiki with Holy Fire Reiki 1.\n \nYou’ll experience and learn to use a simple safe and gentle way of relaxation and well being for you and loved ones. \nMedical professionals use and recommend Reiki\, (for instance Dr. Oz and many others) so can you! Reiki is also used by many spiritual teachers and other professionals. \nIncludes book\, certificates\, attunements and practice. \nRegistration deadline March 25. \n8 NCBTMB/FL CEUs available for LMTs
URL:https://iampurpledawn.com/event/holy-fire-reiki-1-class-2/
LOCATION:Private Residence
CATEGORIES:Class - CEU
ORGANIZER;CN="Dawn C. Meyer":MAILTO:dawn@iampurpledawn.com
END:VEVENT
BEGIN:VEVENT
DTSTART;TZID=UTC:20190323T090000
DTEND;TZID=UTC:20190323T170000
DTSTAMP:20260425T183826
CREATED:20190131T104654Z
LAST-MODIFIED:20190131T104654Z
UID:3095-1553331600-1553360400@iampurpledawn.com
SUMMARY:Access Consciousness Bars Class
DESCRIPTION:Are you ready to help yourself and others make REAL changes in their lives? \nThe Bars® is an energetic body process that can assist you in releasing decisions about any area of your life that you have made solid and as a result cannot change.  \nIt’s a very unique gift you can share for a lifetime!\nIf you’re feeling disconnected.\nIf you’re feeling depressed.\nIf you’re feeling anxiety.\nIf you’re feeling worried.\nIf you’re feeling angry.\nIf you’re feeling tired.\nIf you have an exam.\nIf you have relationship issues.\nIf you just would like to connect with loved ones.\nIf you would like to share healing and release with others. \nIn this one-day class\, you will learn how to run this gentle\, hands-on body process with amazing results. During this class\, you will learn how to gift “the Bars” twice\, and receive twice. \nAt the end of this class\, you will be qualified to run this process on family\, friends or clients and assist them in letting go of stress\, anxiety and anything else they choose. \nIf you’re truly ready for something new\, this is a great place to start! \nRegistration deadline March 13. \n8 NCBTMB/FL CEUs available for LMTs
URL:https://iampurpledawn.com/event/access-bars-class/
LOCATION:Unity of Merritt Island\, 4725 N Courtenay Parkway\, Merritt Island\, FL\, 32953\, United States
CATEGORIES:Class - CEU,Class - Other
ATTACH;FMTTYPE=image/jpeg:https://iampurpledawn.com/wp-content/uploads/2017/09/bars_class.jpg
ORGANIZER;CN="Dawn C. Meyer":MAILTO:dawn@iampurpledawn.com
END:VEVENT
BEGIN:VEVENT
DTSTART;TZID=UTC:20190309T090000
DTEND;TZID=UTC:20190309T170000
DTSTAMP:20260425T183826
CREATED:20190131T103727Z
LAST-MODIFIED:20190131T103727Z
UID:3090-1552122000-1552150800@iampurpledawn.com
SUMMARY:Holy Fire Reiki 1 Class
DESCRIPTION:Take your first step toward Reiki with Holy Fire Reiki 1.\n \nYou’ll experience and learn to use a simple safe and gentle way of relaxation and well being for you and loved ones. \nMedical professionals use and recommend Reiki\, (for instance Dr. Oz and many others) so can you! Reiki is also used by many spiritual teachers and other professionals. \nIncludes book\, certificates\, attunements and practice. \nRegistration deadline March 1. \n8 NCBTMB/FL CEUs available for LMTs
URL:https://iampurpledawn.com/event/holy-fire-reiki-1-class/
LOCATION:Unity of Merritt Island\, 4725 N Courtenay Parkway\, Merritt Island\, FL\, 32953\, United States
CATEGORIES:Class - CEU,Class - Other
ATTACH;FMTTYPE=image/jpeg:https://iampurpledawn.com/wp-content/uploads/2017/11/ReikiHands3SM.jpg
ORGANIZER;CN="Dawn C. Meyer":MAILTO:dawn@iampurpledawn.com
END:VEVENT
BEGIN:VEVENT
DTSTART;TZID=America/New_York:20190216T093000
DTEND;TZID=America/New_York:20190216T163000
DTSTAMP:20260425T183826
CREATED:20190123T031844Z
LAST-MODIFIED:20190123T031846Z
UID:3002-1550309400-1550334600@iampurpledawn.com
SUMMARY:Reboot Your Boundaries and Relationships
DESCRIPTION:Start 2019 off by regaining control of your life and making you a priority in your life! \nImagine… in just one day\, you’ll be fully ready to transform your current and future relationships at an entirely new level thanks to my step-by-step system. Plus\, you will receive “hands-on” expert training and coaching to ensure that you have the ability to set boundaries and reshape your relationships in record time! \nNever again will you live at the mercy of everyone else’s schedules and rules. No longer will you let the enjoyment of life pass you by because you are too busy taking care of everyone else. You can say good-bye to forfeiting hobbies\, friends and the self-care you really needed most. \nYou can finally live on your terms so you can have time for you and what you desire in your life. \nAnd no more putting everyone first … and you last.
URL:https://iampurpledawn.com/event/reboot-your-boundaries-and-relationships/
LOCATION:Space Coast Convention Center\, 301 Tucker Ln\, Cocoa\, FL\, 32926\, United States
CATEGORIES:Presentations
ATTACH;FMTTYPE=image/jpeg:https://iampurpledawn.com/wp-content/uploads/2018/10/Dawn-reboot-banner2.jpg
ORGANIZER;CN="Dawn C. Meyer":MAILTO:dawn@iampurpledawn.com
END:VEVENT
BEGIN:VEVENT
DTSTART;TZID=America/New_York:20190206T080000
DTEND;TZID=America/New_York:20190206T083000
DTSTAMP:20260425T183826
CREATED:20190123T033543Z
LAST-MODIFIED:20190123T053713Z
UID:3007-1549440000-1549441800@iampurpledawn.com
SUMMARY:Water Wednesday Healing at Peacock Beach
DESCRIPTION:Weekly water healing and blessing session with Dawn. \nThis week we will be at Peacock Beach at the boardwalk at the end of Harbor Dr in Cape Canaveral.
URL:https://iampurpledawn.com/event/water-wednesday-healing/
LOCATION:Peacock Beach\, Cape Canaveral\, 404 Harbor Drive\, Cape Canaveral\, FL\, 32920\, United States
CATEGORIES:Other
ATTACH;FMTTYPE=image/jpeg:https://iampurpledawn.com/wp-content/uploads/2019/01/dawn-water-healing-091218sm2.jpg
ORGANIZER;CN="Dawn C. Meyer":MAILTO:dawn@iampurpledawn.com
END:VEVENT
BEGIN:VEVENT
DTSTART;TZID=America/New_York:20190130T080000
DTEND;TZID=America/New_York:20190130T083000
DTSTAMP:20260425T183826
CREATED:20190123T053539Z
LAST-MODIFIED:20190123T053539Z
UID:3012-1548835200-1548837000@iampurpledawn.com
SUMMARY:Water Wednesday Healing Banana River Park
DESCRIPTION:Weekly water healing and blessing session with Dawn. \nThis week we will be at Banana River Park in Cape Canaveral
URL:https://iampurpledawn.com/event/water-wednesday-healing-2-2/
LOCATION:Banana River Park\, Cape Canaveral\, FL\, 901 Puerto Del Rio Dr\, Cape Canaveral\, FL\, 32920\, United States
CATEGORIES:Other
ATTACH;FMTTYPE=image/jpeg:https://iampurpledawn.com/wp-content/uploads/2019/01/dawn-water-healing-091218sm2.jpg
ORGANIZER;CN="Dawn C. Meyer":MAILTO:dawn@iampurpledawn.com
END:VEVENT
BEGIN:VEVENT
DTSTART;TZID=America/New_York:20190123T080000
DTEND;TZID=America/New_York:20190123T083000
DTSTAMP:20260425T183826
CREATED:20190123T034251Z
LAST-MODIFIED:20190123T034251Z
UID:3010-1548230400-1548232200@iampurpledawn.com
SUMMARY:Water Wednesday Healing
DESCRIPTION:Weekly water healing and blessing session with Dawn. \nThis week we will be online demonstrating remote healing techniques
URL:https://iampurpledawn.com/event/water-wednesday-healing-2/
LOCATION:Peacock Beach\, Cape Canaveral\, 404 Harbor Drive\, Cape Canaveral\, FL\, 32920\, United States
CATEGORIES:Other
ATTACH;FMTTYPE=image/jpeg:https://iampurpledawn.com/wp-content/uploads/2019/01/dawn-water-healing-091218sm2.jpg
ORGANIZER;CN="Dawn C. Meyer":MAILTO:dawn@iampurpledawn.com
END:VEVENT
END:VCALENDAR