BEGIN:VCALENDAR
VERSION:2.0
PRODID:-//Purple Dawn --  Exploring the Possibilities - ECPv6.15.20//NONSGML v1.0//EN
CALSCALE:GREGORIAN
METHOD:PUBLISH
X-ORIGINAL-URL:https://iampurpledawn.com
X-WR-CALDESC:Events for Purple Dawn --  Exploring the Possibilities
REFRESH-INTERVAL;VALUE=DURATION:PT1H
X-Robots-Tag:noindex
X-PUBLISHED-TTL:PT1H
BEGIN:VTIMEZONE
TZID:UTC
BEGIN:STANDARD
TZOFFSETFROM:+0000
TZOFFSETTO:+0000
TZNAME:UTC
DTSTART:20180101T000000
END:STANDARD
END:VTIMEZONE
BEGIN:VTIMEZONE
TZID:America/New_York
BEGIN:DAYLIGHT
TZOFFSETFROM:-0500
TZOFFSETTO:-0400
TZNAME:EDT
DTSTART:20180311T070000
END:DAYLIGHT
BEGIN:STANDARD
TZOFFSETFROM:-0400
TZOFFSETTO:-0500
TZNAME:EST
DTSTART:20181104T060000
END:STANDARD
BEGIN:DAYLIGHT
TZOFFSETFROM:-0500
TZOFFSETTO:-0400
TZNAME:EDT
DTSTART:20190310T070000
END:DAYLIGHT
BEGIN:STANDARD
TZOFFSETFROM:-0400
TZOFFSETTO:-0500
TZNAME:EST
DTSTART:20191103T060000
END:STANDARD
BEGIN:DAYLIGHT
TZOFFSETFROM:-0500
TZOFFSETTO:-0400
TZNAME:EDT
DTSTART:20200308T070000
END:DAYLIGHT
BEGIN:STANDARD
TZOFFSETFROM:-0400
TZOFFSETTO:-0500
TZNAME:EST
DTSTART:20201101T060000
END:STANDARD
BEGIN:DAYLIGHT
TZOFFSETFROM:-0500
TZOFFSETTO:-0400
TZNAME:EDT
DTSTART:20210314T070000
END:DAYLIGHT
BEGIN:STANDARD
TZOFFSETFROM:-0400
TZOFFSETTO:-0500
TZNAME:EST
DTSTART:20211107T060000
END:STANDARD
END:VTIMEZONE
BEGIN:VTIMEZONE
TZID:America/Halifax
BEGIN:DAYLIGHT
TZOFFSETFROM:-0400
TZOFFSETTO:-0300
TZNAME:ADT
DTSTART:20180311T060000
END:DAYLIGHT
BEGIN:STANDARD
TZOFFSETFROM:-0300
TZOFFSETTO:-0400
TZNAME:AST
DTSTART:20181104T050000
END:STANDARD
BEGIN:DAYLIGHT
TZOFFSETFROM:-0400
TZOFFSETTO:-0300
TZNAME:ADT
DTSTART:20190310T060000
END:DAYLIGHT
BEGIN:STANDARD
TZOFFSETFROM:-0300
TZOFFSETTO:-0400
TZNAME:AST
DTSTART:20191103T050000
END:STANDARD
BEGIN:DAYLIGHT
TZOFFSETFROM:-0400
TZOFFSETTO:-0300
TZNAME:ADT
DTSTART:20200308T060000
END:DAYLIGHT
BEGIN:STANDARD
TZOFFSETFROM:-0300
TZOFFSETTO:-0400
TZNAME:AST
DTSTART:20201101T050000
END:STANDARD
END:VTIMEZONE
BEGIN:VEVENT
DTSTART;TZID=UTC:20200410T100000
DTEND;TZID=UTC:20200410T110000
DTSTAMP:20260423T180742
CREATED:20200404T003807Z
LAST-MODIFIED:20200404T003807Z
UID:4560-1586512800-1586516400@iampurpledawn.com
SUMMARY:Be Real Get Real Podcast
DESCRIPTION:Guest on Nancy Matthews’ Be Real Get Real Podcast
URL:https://iampurpledawn.com/event/be-real-get-real-podcast/
CATEGORIES:Presentations
ATTACH;FMTTYPE=image/jpeg:https://iampurpledawn.com/wp-content/uploads/2020/04/Nancy-Dawn-podcast-2019-12-24-1.jpg
ORGANIZER;CN="Dawn C. Meyer":MAILTO:dawn@iampurpledawn.com
END:VEVENT
BEGIN:VEVENT
DTSTART;TZID=America/New_York:20200102T090000
DTEND;TZID=America/New_York:20200102T100000
DTSTAMP:20260423T180742
CREATED:20191230T201819Z
LAST-MODIFIED:20191230T202007Z
UID:4286-1577955600-1577959200@iampurpledawn.com
SUMMARY:Goddess Creations Empowerment Marathon
DESCRIPTION:Goddess Creations For Women \nDawn will share how to create the life you would like to be living\, let go of stress and set healthy boundaries. \nGoddess Creations For Women Is a Safe Haven for women.\nA place to communicate\, share\, heal and Be.\nA place of open\, heartfelt communication with respect for each other. \nThe focus of this group is to explore and release the collective pain and wiring in women\, and through us eventually in the men\, passed on through the generations. \nThe interview will be on the Goddess Creations For Women Facebook Group \nhttps://www.facebook.com/groups/1546932475402450/
URL:https://iampurpledawn.com/event/goddess-creations-empowerment-marathon/
LOCATION:Online\, United States
CATEGORIES:Presentations
ATTACH;FMTTYPE=image/png:https://iampurpledawn.com/wp-content/uploads/2019/12/Goddess-creations-Dawn2.png
ORGANIZER;CN="Dawn C. Meyer":MAILTO:dawn@iampurpledawn.com
END:VEVENT
BEGIN:VEVENT
DTSTART;TZID=UTC:20190911T090000
DTEND;TZID=UTC:20190911T100000
DTSTAMP:20260423T180742
CREATED:20190907T041644Z
LAST-MODIFIED:20190907T041644Z
UID:3817-1568192400-1568196000@iampurpledawn.com
SUMMARY:WOW Wednesday -- Creating Harmony in a Chaotic Noisy World
DESCRIPTION:Today’s world has gotten so busy and so noisy that it can be difficult to hear our thoughts\, our desires and our wishes. \nJoin us for the week’s WOW Wednesday with Dawn C. Meyer\, former Rocket Scientist who shows you how to align all of your resources so you can sail into your future in harmony. \nDawn uses a practical science-based approach to reveal possibilities outside of your current view. \nJust as they thought the world was flat\, until they pulled back the curtain\, there’s a host of possibilities\, choices and solutions available to you that you just can’t see yet. \nJoin us for this life-changing WOW Wednesday. \n 
URL:https://iampurpledawn.com/event/wow-wednesday-creating-harmony-in-a-chaotic-noisy-world/
LOCATION:Online\, United States
CATEGORIES:Presentations
ATTACH;FMTTYPE=image/jpeg:https://iampurpledawn.com/wp-content/uploads/2019/09/2019-09-11-wow091119-cover2.jpg
END:VEVENT
BEGIN:VEVENT
DTSTART;TZID=America/Halifax:20190730T120000
DTEND;TZID=America/Halifax:20190730T130000
DTSTAMP:20260423T180742
CREATED:20190429T034644Z
LAST-MODIFIED:20190524T034238Z
UID:3430-1564488000-1564491600@iampurpledawn.com
SUMMARY:Reboot Your Boundaries and Relationships -- Online Series Part 4!
DESCRIPTION:Reboot Your Boundaries and Relationships — the Online Series\nStep By Step Recovery System For Perpetual People Pleasers\, Relationship Rescuers\, and Family Fixers \n\n4-Part Series designed specifically for those who over-give\, are stressed-out\, and have trouble with relationship boundaries and family. \nIt’s time for a reboot so you can stop living for everyone else and start creating a life that serves YOU\, YOUR DESIRES AND YOUR NEEDS!\nRegister at \nReboot Your Boundaries and Relationships
URL:https://iampurpledawn.com/event/reboot-your-boundaries-and-relationships-online-series-3-2/
LOCATION:ZOOM
CATEGORIES:Class - Other,Presentations
ATTACH;FMTTYPE=image/png:https://iampurpledawn.com/wp-content/uploads/2019/05/Reboot-banner-1.png
ORGANIZER;CN="Dawn C. Meyer":MAILTO:dawn@iampurpledawn.com
END:VEVENT
BEGIN:VEVENT
DTSTART;TZID=UTC:20190724T150000
DTEND;TZID=UTC:20190724T160000
DTSTAMP:20260423T180742
CREATED:20190719T162525Z
LAST-MODIFIED:20190719T163011Z
UID:3716-1563980400-1563984000@iampurpledawn.com
SUMMARY:Clearings and Clarity for Christmas In July Energy Clearing and Tuneup ZOOM
DESCRIPTION:Got Stress?\nTime for a Little Energy Clearing and Tune-up \nHave some FUN and relax! \nChristmas In July Energy Clearing & Tune-Up\nWedesday\, July 24\, 3 PM Eastern\nOn Zoom!\nCheck your time here \nOnly $11\nhttp://iampurpledawn.com/eclear/ \nTime to chill!\nJoin Dawn for a little fun\, clearing and calming!
URL:https://iampurpledawn.com/event/clearings-and-clarity-for-christmas-in-july-energy-clearing-and-tuneup-zoom/
LOCATION:Online\, United States
CATEGORIES:Class - Other,Presentations
ATTACH;FMTTYPE=image/jpeg:https://iampurpledawn.com/wp-content/uploads/2019/07/20171225_084937-Dawn-Christmas-beach.jpg
ORGANIZER;CN="Dawn C. Meyer":MAILTO:dawn@iampurpledawn.com
END:VEVENT
BEGIN:VEVENT
DTSTART;TZID=America/Halifax:20190723T120000
DTEND;TZID=America/Halifax:20190723T130000
DTSTAMP:20260423T180742
CREATED:20190404T172843Z
LAST-MODIFIED:20190524T034400Z
UID:3345-1563883200-1563886800@iampurpledawn.com
SUMMARY:Reboot Your Boundaries and Relationships -- Online Series Part 3!
DESCRIPTION:Reboot Your Boundaries and Relationships — the Online Series\nStep By Step Recovery System For Perpetual People Pleasers\, Relationship Rescuers\, and Family Fixers \n\n4-Part Series designed specifically for those who over-give\, are stressed-out\, and have trouble with relationship boundaries and family. \nIt’s time for a reboot so you can stop living for everyone else and start creating a life that serves YOU\, YOUR DESIRES AND YOUR NEEDS!\nRegister at \nhttps://iampurpledawn.com/reboot-relationships/
URL:https://iampurpledawn.com/event/reboot-your-boundaries-and-relationships-online-series-3/
LOCATION:ZOOM
CATEGORIES:Class - Other,Presentations
ATTACH;FMTTYPE=image/png:https://iampurpledawn.com/wp-content/uploads/2019/05/Reboot-banner-1.png
ORGANIZER;CN="Dawn C. Meyer":MAILTO:dawn@iampurpledawn.com
END:VEVENT
BEGIN:VEVENT
DTSTART;TZID=America/Halifax:20190716T120000
DTEND;TZID=America/Halifax:20190716T130000
DTSTAMP:20260423T180742
CREATED:20190404T172714Z
LAST-MODIFIED:20190524T034527Z
UID:3343-1563278400-1563282000@iampurpledawn.com
SUMMARY:Reboot Your Boundaries and Relationships -- Online Series Part 2!
DESCRIPTION:Reboot Your Boundaries and Relationships — the Online Series\nStep By Step Recovery System For Perpetual People Pleasers\, Relationship Rescuers\, and Family Fixers \n\n4-Part Series designed specifically for those who over-give\, are stressed-out\, and have trouble with relationship boundaries and family. \nIt’s time for a reboot so you can stop living for everyone else and start creating a life that serves YOU\, YOUR DESIRES AND YOUR NEEDS!\nRegister at \nReboot Your Boundaries and Relationships
URL:https://iampurpledawn.com/event/reboot-your-boundaries-and-relationships-online-series-2/
LOCATION:ZOOM
CATEGORIES:Class - Other,Presentations
ATTACH;FMTTYPE=image/png:https://iampurpledawn.com/wp-content/uploads/2019/05/Reboot-banner-1.png
ORGANIZER;CN="Dawn C. Meyer":MAILTO:dawn@iampurpledawn.com
END:VEVENT
BEGIN:VEVENT
DTSTART;TZID=America/Halifax:20190709T120000
DTEND;TZID=America/Halifax:20190709T130000
DTSTAMP:20260423T180742
CREATED:20190404T172536Z
LAST-MODIFIED:20190524T034631Z
UID:3340-1562673600-1562677200@iampurpledawn.com
SUMMARY:Reboot Your Boundaries and Relationships -- Online Series\, Part 1!
DESCRIPTION:Reboot Your Boundaries and Relationships — the Online Series\nStep By Step Recovery System For Perpetual People Pleasers\, Relationship Rescuers\, and Family Fixers \n\n4-Part Series designed specifically for those who over-give\, are stressed-out\, and have trouble with relationship boundaries and family. \nIt’s time for a reboot so you can stop living for everyone else and start creating a life that serves YOU\, YOUR DESIRES AND YOUR NEEDS!\nRegister at \nhttps://iampurpledawn.com/reboot-relationships/
URL:https://iampurpledawn.com/event/reboot-your-boundaries-and-relationships-online-series/
LOCATION:ZOOM
CATEGORIES:Class - Other,Presentations
ATTACH;FMTTYPE=image/png:https://iampurpledawn.com/wp-content/uploads/2019/05/Reboot-banner-1.png
ORGANIZER;CN="Dawn C. Meyer":MAILTO:dawn@iampurpledawn.com
END:VEVENT
BEGIN:VEVENT
DTSTART;TZID=UTC:20190607T100000
DTEND;TZID=UTC:20190608T190000
DTSTAMP:20260423T180742
CREATED:20190524T174912Z
LAST-MODIFIED:20190524T174912Z
UID:3570-1559901600-1560020400@iampurpledawn.com
SUMMARY:Dawn Speaking at WPN Illumination Live
DESCRIPTION:Join me as I\nBlastoff to Possibilities\nat the WPN Illumination Live:  Where Passion Meets Prosperity\n\n\n\n\n\n\n\n\n\n\n\n\n\n\n\n\n\n\nAn Experiential Conference That Transforms Your Business & Your Life\n\n\n\n\n\n\nRegister at womensprosperitynetwork.com/live/
URL:https://iampurpledawn.com/event/dawn-speaking-at-wpn-illumination-live/
LOCATION:Fort Lauderdale\, FL\, United States
CATEGORIES:Presentations
ATTACH;FMTTYPE=image/jpeg:https://iampurpledawn.com/wp-content/uploads/2019/05/Dawn-iLive.jpg
ORGANIZER;CN="Dawn C. Meyer":MAILTO:dawn@iampurpledawn.com
END:VEVENT
BEGIN:VEVENT
DTSTART;TZID=UTC:20190529T090000
DTEND;TZID=UTC:20190529T100000
DTSTAMP:20260423T180742
CREATED:20190524T173858Z
LAST-MODIFIED:20190524T173858Z
UID:3566-1559120400-1559124000@iampurpledawn.com
SUMMARY:WOW Wednesday with Dawn -  Topic: The 3 Biggest Lies We Tell Ourselves
DESCRIPTION:The 3 Biggest Lies We Tell Ourselves\n\n\n\n\nJoin us for this week’s Wow class with Dawn Meyer\, former Rocket Scientist (yes really!)\, now Energy Healer\, who will be discussing The 3 Biggest Lies We Tell Ourselves. Dawn will share how you can set yourself FREE from these lies to live your TRUTH\, fulfill your PURPOSE and enjoy the ride to the STARS!\n\n\nRegister at   womensprosperitynetwork.com/wow/
URL:https://iampurpledawn.com/event/wow-wednesday-with-dawn-topic-the-3-biggest-lies-we-tell-ourselves/
LOCATION:Online\, United States
CATEGORIES:Presentations
ATTACH;FMTTYPE=image/jpeg:https://iampurpledawn.com/wp-content/uploads/2019/05/wow052919-full.jpg
ORGANIZER;CN="Dawn C. Meyer":MAILTO:dawn@iampurpledawn.com
END:VEVENT
BEGIN:VEVENT
DTSTART;TZID=UTC:20190524T110000
DTEND;TZID=UTC:20190524T123000
DTSTAMP:20260423T180742
CREATED:20190524T171147Z
LAST-MODIFIED:20190524T171147Z
UID:3563-1558695600-1558701000@iampurpledawn.com
SUMMARY:VIRTUAL SUMMIT On Spiritual & Energy Healing
DESCRIPTION:I will be speaking on the VIRTUAL SUMMIT On Spiritual & Energy Healing\nHere is the registration link for a free pass \nhttp://bit.ly/VSSpiritual\n 
URL:https://iampurpledawn.com/event/virtual-summit-on-spiritual-energy-healing/
LOCATION:ZOOM
CATEGORIES:Presentations
ATTACH;FMTTYPE=image/png:https://iampurpledawn.com/wp-content/uploads/2019/05/Spiritual-energy-healing-summit-dawn-sm.png
ORGANIZER;CN="Dawn C. Meyer":MAILTO:dawn@iampurpledawn.com
END:VEVENT
BEGIN:VEVENT
DTSTART;TZID=America/New_York:20190216T093000
DTEND;TZID=America/New_York:20190216T163000
DTSTAMP:20260423T180742
CREATED:20190123T031844Z
LAST-MODIFIED:20190123T031846Z
UID:3002-1550309400-1550334600@iampurpledawn.com
SUMMARY:Reboot Your Boundaries and Relationships
DESCRIPTION:Start 2019 off by regaining control of your life and making you a priority in your life! \nImagine… in just one day\, you’ll be fully ready to transform your current and future relationships at an entirely new level thanks to my step-by-step system. Plus\, you will receive “hands-on” expert training and coaching to ensure that you have the ability to set boundaries and reshape your relationships in record time! \nNever again will you live at the mercy of everyone else’s schedules and rules. No longer will you let the enjoyment of life pass you by because you are too busy taking care of everyone else. You can say good-bye to forfeiting hobbies\, friends and the self-care you really needed most. \nYou can finally live on your terms so you can have time for you and what you desire in your life. \nAnd no more putting everyone first … and you last.
URL:https://iampurpledawn.com/event/reboot-your-boundaries-and-relationships/
LOCATION:Space Coast Convention Center\, 301 Tucker Ln\, Cocoa\, FL\, 32926\, United States
CATEGORIES:Presentations
ATTACH;FMTTYPE=image/jpeg:https://iampurpledawn.com/wp-content/uploads/2018/10/Dawn-reboot-banner2.jpg
ORGANIZER;CN="Dawn C. Meyer":MAILTO:dawn@iampurpledawn.com
END:VEVENT
END:VCALENDAR